BEGIN:VCALENDAR
VERSION:2.0
PRODID:-//Tukios.com/
BEGIN:VEVENT
UID:6c7becb0-0b59-4df3-b951-45973cf44e15@www.leaandsimmonsfuneralhome.com
DTSTAMP:20260420T082427Z
DTSTART:20260417T210000Z
DTEND:20260417T220000Z
SUMMARY:Burial
DESCRIPTION:
URL:https://www.leaandsimmonsfuneralhome.com/obituaries/ray-waldon
LOCATION: 2488 US-70  Brownsville TN 38012
GEO:35.5924576;-89.2189714
END:VEVENT
END:VCALENDAR