BEGIN:VCALENDAR
VERSION:2.0
PRODID:-//Tukios.com/
BEGIN:VEVENT
UID:f09d0729-11f0-4682-ae9c-d3f6024d89d8@www.leaandsimmonsfuneralhome.com
DTSTAMP:20260420T085339Z
DTSTART:20260417T200000Z
DTEND:20260417T210000Z
SUMMARY:Funeral Service
DESCRIPTION:
URL:https://www.leaandsimmonsfuneralhome.com/obituaries/ray-waldon
LOCATION: 1280 S Dupree Ave  Brownsville TN 38012
GEO:35.581717;-89.2435998
END:VEVENT
END:VCALENDAR