BEGIN:VCALENDAR
VERSION:2.0
PRODID:-//Tukios.com/
BEGIN:VEVENT
UID:4b9cc79a-f9cc-474b-a5fc-3d59183ba12a@www.leaandsimmonsfuneralhome.com
DTSTAMP:20260420T234130Z
DTSTART:20260425T160000Z
DTEND:20260425T180000Z
SUMMARY:Memorial Service
DESCRIPTION:
URL:https://www.leaandsimmonsfuneralhome.com/obituaries/randy-williams
LOCATION: 3772 Shaw's Chapel Road   Brownsville TN 38012
GEO:35.6025446;-89.2860271
END:VEVENT
END:VCALENDAR