BEGIN:VCALENDAR
VERSION:2.0
PRODID:-//Tukios.com/
BEGIN:VEVENT
UID:603efcdc-9cb2-4477-8f3d-9b0b37848a31@www.leaandsimmonsfuneralhome.com
DTSTAMP:20260421T185959Z
DTSTART:20260425T193000Z
DTEND:20260425T203000Z
SUMMARY:Burial
DESCRIPTION:
URL:https://www.leaandsimmonsfuneralhome.com/obituaries/lola-white
LOCATION: 2488 US-70  Brownsville TN 38012
GEO:35.5924576;-89.2189714
END:VEVENT
END:VCALENDAR