BEGIN:VCALENDAR
VERSION:2.0
PRODID:-//Tukios.com/
BEGIN:VEVENT
UID:e44fdf81-1c5c-4213-8dea-bb22ae0b623a@www.leaandsimmonsfuneralhome.com
DTSTAMP:20260421T190337Z
DTSTART:20260425T180000Z
DTEND:20260425T190000Z
SUMMARY:Funeral Service
DESCRIPTION:
URL:https://www.leaandsimmonsfuneralhome.com/obituaries/lola-white
LOCATION: 1280 S Dupree Ave  Brownsville TN 38012
GEO:35.581717;-89.2435998
END:VEVENT
END:VCALENDAR