BEGIN:VCALENDAR
VERSION:2.0
PRODID:-//Tukios.com/
BEGIN:VEVENT
UID:9ef2f746-7c40-4584-958c-2b54d9eb7265@www.leaandsimmonsfuneralhome.com
DTSTAMP:20260421T190500Z
DTSTART:20260425T170000Z
DTEND:20260425T180000Z
SUMMARY:Visitation
DESCRIPTION:
URL:https://www.leaandsimmonsfuneralhome.com/obituaries/lola-white
LOCATION: 1280 S Dupree Ave  Brownsville TN 38012
GEO:35.581717;-89.2435998
END:VEVENT
END:VCALENDAR