BEGIN:VCALENDAR
VERSION:2.0
PRODID:-//Tukios.com/
BEGIN:VEVENT
UID:9b31a16c-ad05-486e-803a-b43c11014ef3@www.leaandsimmonsfuneralhome.com
DTSTAMP:20260420T204952Z
DTSTART:20260424T180000Z
DTEND:20260424T190000Z
SUMMARY:Memorial Service
DESCRIPTION:
URL:https://www.leaandsimmonsfuneralhome.com/obituaries/frank-hartmann
LOCATION: 1280 S Dupree Ave  Brownsville TN 38012
GEO:35.581717;-89.2435998
END:VEVENT
END:VCALENDAR