BEGIN:VCALENDAR
VERSION:2.0
PRODID:-//Tukios.com/
BEGIN:VEVENT
UID:fc5df890-1a11-422c-831c-2f9566436cfe@www.leaandsimmonsfuneralhome.com
DTSTAMP:20260420T205616Z
DTSTART:20260424T160000Z
DTEND:20260424T180000Z
SUMMARY:Visitation
DESCRIPTION:
URL:https://www.leaandsimmonsfuneralhome.com/obituaries/frank-hartmann
LOCATION: 1280 S Dupree Ave  Brownsville TN 38012
GEO:35.581717;-89.2435998
END:VEVENT
END:VCALENDAR