BEGIN:VCALENDAR
VERSION:2.0
PRODID:-//Tukios.com/
BEGIN:VEVENT
UID:358a8454-7031-4915-835c-cfec0d7433ff@www.leaandsimmonsfuneralhome.com
DTSTAMP:20260424T232954Z
DTSTART:20260426T200000Z
DTEND:20260426T210000Z
SUMMARY:Burial
DESCRIPTION:
URL:https://www.leaandsimmonsfuneralhome.com/obituaries/betty-neal
LOCATION: 2488 US-70  Brownsville TN 38012
GEO:35.5924576;-89.2189714
END:VEVENT
END:VCALENDAR