BEGIN:VCALENDAR
VERSION:2.0
PRODID:-//Tukios.com/
BEGIN:VEVENT
UID:100c2e57-5929-40c8-96f0-35d8f87b745a@www.leaandsimmonsfuneralhome.com
DTSTAMP:20260424T232134Z
DTSTART:20260426T190000Z
DTEND:20260426T200000Z
SUMMARY:Funeral Service
DESCRIPTION:
URL:https://www.leaandsimmonsfuneralhome.com/obituaries/betty-neal
LOCATION: 1280 S Dupree Ave  Brownsville TN 38012
GEO:35.581717;-89.2435998
END:VEVENT
END:VCALENDAR