BEGIN:VCALENDAR
VERSION:2.0
PRODID:-//Tukios.com/
BEGIN:VEVENT
UID:654a5e00-31e9-4ac8-989f-17beaff30177@www.leaandsimmonsfuneralhome.com
DTSTAMP:20260424T232935Z
DTSTART:20260426T180000Z
DTEND:20260426T190000Z
SUMMARY:Visitation
DESCRIPTION:
URL:https://www.leaandsimmonsfuneralhome.com/obituaries/betty-neal
LOCATION: 1280 S Dupree Ave  Brownsville TN 38012
GEO:35.581717;-89.2435998
END:VEVENT
END:VCALENDAR